BEGIN:VCALENDAR
VERSION:2.0
PRODID:-//eventon.com NONSGML v1.0//EN
BEGIN:VEVENT
UID:69e73c7e1ebef
DTSTAMP:20260421T095942
DTSTART:20220417T140000Z
DTEND:20220417T190000Z
LOCATION:
SUMMARY:FA Cup Semi-Final
DESCRIPTION: We will be playing both the Semi-finals and the finals of the FA Cup on our big screen here at the pub.  Join us: Semi-final - Sunday 17 April:  Chelsea v Crystal Palace at 4.30 pm AND Final - Saturday 14 May 2022: Time TBC During the FA Cup semis[..]
END:VEVENT
END:VCALENDAR