BEGIN:VCALENDAR
VERSION:2.0
PRODID:-//eventon.com NONSGML v1.0//EN
BEGIN:VEVENT
UID:69e73f7dcca1a
DTSTAMP:20260421T101229
DTSTART:20220416T140000Z
DTEND:20220416T190000Z
LOCATION:
SUMMARY:FA Cup Semi-Final
DESCRIPTION: We will be playing both the Semi-finals and the finals of the FA Cup on our big screen here at the pub.  Join us: Semi-final - Saturday 16 April:  Manchester City v Liverpool at 3.30 pm Semi-final - Sunday 17 April:  Chelsea v Crystal Palace at 4.30 pm AND Final[..]
END:VEVENT
END:VCALENDAR