BEGIN:VCALENDAR
VERSION:2.0
PRODID:-//eventon.com NONSGML v1.0//EN
BEGIN:VEVENT
UID:69e4d706483d5
DTSTAMP:20260419T142214
DTSTART:20211216T180000Z
DTEND:20211216T200000Z
LOCATION:
SUMMARY:Christmas Wreath Making Workshop
DESCRIPTION: Join us for a 2-hour wreath making workshop with Lorna from Pebble Beach Floristry\,  Portland. For £40 per person\,  you get expert help from a professional florist\,  including all materials to make your very own Christmas wreath to take home with you. The ticket price also includes: Coach House Inn[..]
END:VEVENT
END:VCALENDAR